BEGIN:VCALENDAR
VERSION:2.0
PRODID:-//BELi - ECPv6.15.20//NONSGML v1.0//EN
CALSCALE:GREGORIAN
METHOD:PUBLISH
X-WR-CALNAME:BELi
X-ORIGINAL-URL:https://beli-eng.com
X-WR-CALDESC:Events for BELi
REFRESH-INTERVAL;VALUE=DURATION:PT1H
X-Robots-Tag:noindex
X-PUBLISHED-TTL:PT1H
BEGIN:VTIMEZONE
TZID:America/Toronto
BEGIN:DAYLIGHT
TZOFFSETFROM:-0500
TZOFFSETTO:-0400
TZNAME:EDT
DTSTART:20240310T070000
END:DAYLIGHT
BEGIN:STANDARD
TZOFFSETFROM:-0400
TZOFFSETTO:-0500
TZNAME:EST
DTSTART:20241103T060000
END:STANDARD
BEGIN:DAYLIGHT
TZOFFSETFROM:-0500
TZOFFSETTO:-0400
TZNAME:EDT
DTSTART:20250309T070000
END:DAYLIGHT
BEGIN:STANDARD
TZOFFSETFROM:-0400
TZOFFSETTO:-0500
TZNAME:EST
DTSTART:20251102T060000
END:STANDARD
BEGIN:DAYLIGHT
TZOFFSETFROM:-0500
TZOFFSETTO:-0400
TZNAME:EDT
DTSTART:20260308T070000
END:DAYLIGHT
BEGIN:STANDARD
TZOFFSETFROM:-0400
TZOFFSETTO:-0500
TZNAME:EST
DTSTART:20261101T060000
END:STANDARD
END:VTIMEZONE
BEGIN:VEVENT
DTSTART;TZID=America/Toronto:20250326T130000
DTEND;TZID=America/Toronto:20250326T163000
DTSTAMP:20260423T021950
CREATED:20250225T220228Z
LAST-MODIFIED:20250310T173813Z
UID:6499-1742994000-1743006600@beli-eng.com
SUMMARY:Masonry Properties in the Kitchen - Session 1
DESCRIPTION:This two-part workshop has participants measure absorption coefficient\, dry density\, free water saturation\, reference water content\, and vapour permeance wet cup and dry cup material properties of select masonry samples using common kitchen equipment. \nDo Masonry Testing in your Office or Kitchen! \nRegistration includes a test kit with \n\nPrecision lab scale\nMost lab supplies and setup materials\nCourse masonry test samples\n\nSession 1 – March 26\, 1-4:30pm \n\nProject testing 101\nStep by step sample preparation\nBELi staff will provide up to 1 hour of live online review of your sample setup and testing progress outside of the session time to ensure you are testing confidently\n\nSession 2 – April 9\, 1-4:30pm \n\nCompare your kitchen testing with professional lab testing and the BELi masonry testing database\nDiscuss ASTM and ISO test standard requirements and other material properties
URL:https://beli-eng.com/event/masonry-properties-in-the-kitchen-1
CATEGORIES:Course
ATTACH;FMTTYPE=image/jpeg:https://beli-eng.com/wp-content/uploads/2025/02/AD_4nXdSGbPF3JtcfI4DN4RMpfkXZkkDrxIljMpoKc1HFbvifvB6nRBIOpZm3vYTdB7tjVXwn6lC1qJ8TYZ5GP7SBcuMRPmXgW9uyeBfcCVVbNBNJOuYZXogUxgd-e1740522989857.jpg
ORGANIZER;CN="Stephen Walker":MAILTO:steve@beli-eng.com
END:VEVENT
BEGIN:VEVENT
DTSTART;TZID=America/Toronto:20250122T150000
DTEND;TZID=America/Toronto:20250122T150000
DTSTAMP:20260423T021950
CREATED:20250307T203711Z
LAST-MODIFIED:20250307T203809Z
UID:6657-1737558000-1737558000@beli-eng.com
SUMMARY:IR Thermography for Building Envelopes - London
DESCRIPTION:This event is a hands-on learning and networking event that begins at our BELi lab.  \nParticipants will receive an IR thermography for building enclosures overview\, challenge our escape room\, detect and document air leaks in our building using pressurization assisted IR thermography\, and then join an IR walking tour surveying existing and new buildings with an array of thermal bridging and moisture issues. The walks end at a nearby food and drink venue for networking and candid infrared photo ops. \nThis event will count towards 2 hours of structured learning towards OAA and PEAK continuing education units
URL:https://beli-eng.com/event/ir-thermography-for-building-envelopes-london-2
LOCATION:Building Enclosure Labs\, 71 Wellington St\, London\, Ontario\, Canada
ATTACH;FMTTYPE=image/jpeg:https://beli-eng.com/wp-content/uploads/2025/03/Wednesday-January-22nd-e1741379780548.jpg
ORGANIZER;CN="Stephen Walker":MAILTO:steve@beli-eng.com
END:VEVENT
END:VCALENDAR